Package: rawrr Version: 1.18.0 Command: /home/biocbuild/bbs-3.22-bioc/R/bin/R CMD build --keep-empty-dirs --no-resave-data --md5 rawrr StartedAt: 2025-11-03 19:33:48 -0500 (Mon, 03 Nov 2025) EndedAt: 2025-11-03 19:34:49 -0500 (Mon, 03 Nov 2025) EllapsedTime: 61.0 seconds RetCode: 0 Status: OK PackageFile: rawrr_1.18.0.tar.gz PackageFileSize: 2.307 MiB