Package: rawDiag Version: 1.5.3 Command: /home/biocbuild/bbs-3.22-bioc/R/bin/R CMD INSTALL rawDiag StartedAt: 2025-10-24 15:19:15 -0400 (Fri, 24 Oct 2025) EndedAt: 2025-10-24 15:19:21 -0400 (Fri, 24 Oct 2025) EllapsedTime: 6.0 seconds RetCode: 0 Status: OK