Package: rawDiag Version: 1.5.3 Command: /home/biocbuild/bbs-3.22-bioc/R/bin/R CMD build --keep-empty-dirs --no-resave-data --md5 rawDiag StartedAt: 2025-10-24 19:38:54 -0400 (Fri, 24 Oct 2025) EndedAt: 2025-10-24 19:40:08 -0400 (Fri, 24 Oct 2025) EllapsedTime: 73.1 seconds RetCode: 0 Status: OK PackageFile: rawDiag_1.5.3.tar.gz PackageFileSize: 2.149 MiB