Package: randRotation Version: 1.21.0 Command: /home/biocbuild/bbs-3.22-bioc/R/bin/R CMD INSTALL randRotation StartedAt: 2025-10-24 15:14:09 -0400 (Fri, 24 Oct 2025) EndedAt: 2025-10-24 15:14:29 -0400 (Fri, 24 Oct 2025) EllapsedTime: 20.1 seconds RetCode: 0 Status: OK