Package: randRotation Version: 1.21.0 Command: /home/biocbuild/bbs-3.22-bioc/R/bin/R CMD check --install=check:randRotation.install-out.txt --library=/home/biocbuild/bbs-3.22-bioc/R/site-library --timings randRotation_1.21.0.tar.gz StartedAt: 2025-10-25 03:09:10 -0400 (Sat, 25 Oct 2025) EndedAt: 2025-10-25 03:11:39 -0400 (Sat, 25 Oct 2025) EllapsedTime: 149.2 seconds RetCode: 0 Status: OK CheckDir: randRotation.Rcheck Warnings: 0