Package: randRotation Version: 1.21.0 Command: /Library/Frameworks/R.framework/Resources/bin/R CMD INSTALL randRotation StartedAt: 2025-10-24 15:13:43 -0400 (Fri, 24 Oct 2025) EndedAt: 2025-10-24 15:14:14 -0400 (Fri, 24 Oct 2025) EllapsedTime: 31.2 seconds RetCode: 0 Status: OK