Package: randRotation Version: 1.21.0 Command: /Library/Frameworks/R.framework/Resources/bin/R CMD build --keep-empty-dirs --no-resave-data randRotation StartedAt: 2025-10-24 18:23:14 -0400 (Fri, 24 Oct 2025) EndedAt: 2025-10-24 18:25:40 -0400 (Fri, 24 Oct 2025) EllapsedTime: 146.3 seconds RetCode: 0 Status: OK PackageFile: randRotation_1.21.0.tar.gz PackageFileSize: 973.9 KiB