Package: randPack Version: 1.55.0 Command: /home/biocbuild/bbs-3.22-bioc/R/bin/R CMD INSTALL randPack StartedAt: 2025-10-24 16:09:41 -0400 (Fri, 24 Oct 2025) EndedAt: 2025-10-24 16:09:45 -0400 (Fri, 24 Oct 2025) EllapsedTime: 4.3 seconds RetCode: 0 Status: OK