Package: ramwas Version: 1.34.0 Command: /home/biocbuild/bbs-3.22-bioc/R/bin/R CMD INSTALL ramwas StartedAt: 2025-11-17 17:45:14 -0500 (Mon, 17 Nov 2025) EndedAt: 2025-11-17 17:45:52 -0500 (Mon, 17 Nov 2025) EllapsedTime: 38.2 seconds RetCode: 0 Status: OK