Package: ramwas Version: 1.34.0 Command: /home/biocbuild/bbs-3.22-bioc/R/bin/R CMD build --keep-empty-dirs --no-resave-data --md5 ramwas StartedAt: 2025-11-17 22:55:20 -0500 (Mon, 17 Nov 2025) EndedAt: 2025-11-17 22:59:29 -0500 (Mon, 17 Nov 2025) EllapsedTime: 249.3 seconds RetCode: 0 Status: OK PackageFile: ramwas_1.34.0.tar.gz PackageFileSize: 3.213 MiB