Package: ramr Version: 1.17.1 Command: /home/biocbuild/bbs-3.22-bioc/R/bin/R CMD INSTALL ramr StartedAt: 2025-10-24 15:25:48 -0400 (Fri, 24 Oct 2025) EndedAt: 2025-10-24 15:26:47 -0400 (Fri, 24 Oct 2025) EllapsedTime: 59.1 seconds RetCode: 0 Status: OK