Package: ramr Version: 1.18.0 Command: /Library/Frameworks/R.framework/Resources/bin/R CMD build --keep-empty-dirs --no-resave-data ramr StartedAt: 2025-11-03 18:22:11 -0500 (Mon, 03 Nov 2025) EndedAt: 2025-11-03 18:25:08 -0500 (Mon, 03 Nov 2025) EllapsedTime: 177.4 seconds RetCode: 0 Status: OK PackageFile: ramr_1.18.0.tar.gz PackageFileSize: 2.844 MiB