Package: ramr Version: 1.17.1 Command: /Library/Frameworks/R.framework/Resources/bin/R CMD build --keep-empty-dirs --no-resave-data ramr StartedAt: 2025-10-24 17:27:10 -0400 (Fri, 24 Oct 2025) EndedAt: 2025-10-24 17:28:11 -0400 (Fri, 24 Oct 2025) EllapsedTime: 61.7 seconds RetCode: 0 Status: OK PackageFile: ramr_1.17.1.tar.gz PackageFileSize: 2.845 MiB