Package: ramr Version: 1.17.1 Command: rm -rf ramr.buildbin-libdir && mkdir ramr.buildbin-libdir && /Users/biocbuild/BBS/utils/build-universal.sh ramr_1.17.1.tar.gz /Library/Frameworks/R.framework/Resources/bin/R ramr.buildbin-libdir StartedAt: 2025-10-24 23:15:24 -0400 (Fri, 24 Oct 2025) EndedAt: 2025-10-24 23:15:40 -0400 (Fri, 24 Oct 2025) EllapsedTime: 16.4 seconds RetCode: 0 Status: OK PackageFile: ramr_1.17.1.tgz PackageFileSize: 2.85 MiB