Package: rWikiPathways Version: 1.29.2 Command: /home/biocbuild/bbs-3.22-bioc/R/bin/R CMD build --keep-empty-dirs --no-resave-data --md5 rWikiPathways StartedAt: 2025-10-24 19:55:15 -0400 (Fri, 24 Oct 2025) EndedAt: 2025-10-24 19:55:28 -0400 (Fri, 24 Oct 2025) EllapsedTime: 13.0 seconds RetCode: 0 Status: OK PackageFile: rWikiPathways_1.29.2.tar.gz PackageFileSize: 10.39 MiB