Package: rTRMui Version: 1.47.0 Command: /home/biocbuild/bbs-3.22-bioc/R/bin/R CMD INSTALL rTRMui StartedAt: 2025-10-24 16:11:56 -0400 (Fri, 24 Oct 2025) EndedAt: 2025-10-24 16:12:45 -0400 (Fri, 24 Oct 2025) EllapsedTime: 48.6 seconds RetCode: 0 Status: OK