Package: rSWeeP Version: 1.21.0 Command: /home/biocbuild/bbs-3.22-bioc/R/bin/R CMD INSTALL rSWeeP StartedAt: 2025-10-27 15:17:26 -0400 (Mon, 27 Oct 2025) EndedAt: 2025-10-27 15:17:36 -0400 (Mon, 27 Oct 2025) EllapsedTime: 9.4 seconds RetCode: 0 Status: OK