Package: rRDP Version: 1.43.1 Command: /home/biocbuild/bbs-3.22-bioc/R/bin/R CMD build --keep-empty-dirs --no-resave-data --md5 rRDP StartedAt: 2025-10-27 19:44:40 -0400 (Mon, 27 Oct 2025) EndedAt: 2025-10-27 19:45:03 -0400 (Mon, 27 Oct 2025) EllapsedTime: 23.0 seconds RetCode: 0 Status: OK PackageFile: rRDP_1.43.1.tar.gz PackageFileSize: 2.595 MiB