Package: rRDP Version: 1.43.1 Command: /Library/Frameworks/R.framework/Resources/bin/R CMD INSTALL rRDP StartedAt: 2025-10-26 15:08:10 -0400 (Sun, 26 Oct 2025) EndedAt: 2025-10-26 15:08:14 -0400 (Sun, 26 Oct 2025) EllapsedTime: 4.3 seconds RetCode: 0 Status: OK