Package: rGenomeTracks Version: 1.15.0 Command: /home/biocbuild/bbs-3.22-bioc/R/bin/R CMD INSTALL rGenomeTracks StartedAt: 2025-10-24 15:36:25 -0400 (Fri, 24 Oct 2025) EndedAt: 2025-10-24 15:36:32 -0400 (Fri, 24 Oct 2025) EllapsedTime: 7.2 seconds RetCode: 0 Status: OK