Package: rGenomeTracks Version: 1.16.0 Command: /Library/Frameworks/R.framework/Resources/bin/R CMD build --keep-empty-dirs --no-resave-data rGenomeTracks StartedAt: 2025-11-10 17:30:26 -0500 (Mon, 10 Nov 2025) EndedAt: 2025-11-10 17:30:32 -0500 (Mon, 10 Nov 2025) EllapsedTime: 6.1 seconds RetCode: 0 Status: OK PackageFile: rGenomeTracks_1.16.0.tar.gz PackageFileSize: 3.345 MiB