Package: rGREAT Version: 2.11.0 Command: /home/biocbuild/bbs-3.22-bioc/R/bin/R CMD INSTALL rGREAT StartedAt: 2025-10-24 16:10:02 -0400 (Fri, 24 Oct 2025) EndedAt: 2025-10-24 16:10:48 -0400 (Fri, 24 Oct 2025) EllapsedTime: 45.7 seconds RetCode: 0 Status: OK