Package: rGREAT Version: 2.12.1 Command: /Library/Frameworks/R.framework/Resources/bin/R CMD INSTALL rGREAT StartedAt: 2025-11-10 15:31:36 -0500 (Mon, 10 Nov 2025) EndedAt: 2025-11-10 15:31:54 -0500 (Mon, 10 Nov 2025) EllapsedTime: 18.4 seconds RetCode: 0 Status: OK