Package: rGREAT Version: 2.12.1 Command: /Library/Frameworks/R.framework/Resources/bin/R CMD build --keep-empty-dirs --no-resave-data rGREAT StartedAt: 2025-11-10 17:30:41 -0500 (Mon, 10 Nov 2025) EndedAt: 2025-11-10 17:31:03 -0500 (Mon, 10 Nov 2025) EllapsedTime: 22.2 seconds RetCode: 0 Status: OK PackageFile: rGREAT_2.12.1.tar.gz PackageFileSize: 2.754 MiB