Package: rGREAT Version: 2.12.1 Command: rm -rf rGREAT.buildbin-libdir && mkdir rGREAT.buildbin-libdir && /Users/biocbuild/BBS/utils/build-universal.sh rGREAT_2.12.1.tar.gz /Library/Frameworks/R.framework/Resources/bin/R rGREAT.buildbin-libdir StartedAt: 2025-11-10 23:33:22 -0500 (Mon, 10 Nov 2025) EndedAt: 2025-11-10 23:33:42 -0500 (Mon, 10 Nov 2025) EllapsedTime: 20.4 seconds RetCode: 0 Status: OK PackageFile: rGREAT_2.12.1.tgz PackageFileSize: 3.431 MiB