Package: rGADEM Version: 2.57.1 Command: /home/biocbuild/bbs-3.22-bioc/R/bin/R CMD INSTALL rGADEM StartedAt: 2025-10-27 15:30:28 -0400 (Mon, 27 Oct 2025) EndedAt: 2025-10-27 15:30:32 -0400 (Mon, 27 Oct 2025) EllapsedTime: 4.3 seconds RetCode: 1 Status: ERROR