Package: rGADEM Version: 2.57.1 Command: /home/biocbuild/bbs-3.22-bioc/R/bin/R CMD build --keep-empty-dirs --no-resave-data --md5 rGADEM StartedAt: 2025-10-27 19:37:01 -0400 (Mon, 27 Oct 2025) EndedAt: 2025-10-27 19:37:06 -0400 (Mon, 27 Oct 2025) EllapsedTime: 5.0 seconds RetCode: 1 Status: ERROR PackageFile: None PackageFileSize: NA