Package: rCGH Version: 1.39.1 Command: /home/biocbuild/bbs-3.22-bioc/R/bin/R CMD INSTALL rCGH StartedAt: 2025-10-24 16:11:50 -0400 (Fri, 24 Oct 2025) EndedAt: 2025-10-24 16:12:36 -0400 (Fri, 24 Oct 2025) EllapsedTime: 45.7 seconds RetCode: 0 Status: OK