Package: rCGH Version: 1.39.1 Command: /home/biocbuild/bbs-3.22-bioc/R/bin/R CMD build --keep-empty-dirs --no-resave-data --md5 rCGH StartedAt: 2025-10-24 19:40:51 -0400 (Fri, 24 Oct 2025) EndedAt: 2025-10-24 19:42:21 -0400 (Fri, 24 Oct 2025) EllapsedTime: 90.1 seconds RetCode: 0 Status: OK PackageFile: rCGH_1.39.1.tar.gz PackageFileSize: 4.036 MiB