Package: rBiopaxParser Version: 2.50.0 Command: /home/biocbuild/bbs-3.22-bioc/R/bin/R CMD INSTALL rBiopaxParser StartedAt: 2025-10-29 21:18:49 -0400 (Wed, 29 Oct 2025) EndedAt: 2025-10-29 21:19:00 -0400 (Wed, 29 Oct 2025) EllapsedTime: 10.5 seconds RetCode: 0 Status: OK