Package: rBLAST Version: 1.5.0 Command: /home/biocbuild/bbs-3.22-bioc/R/bin/R CMD build --keep-empty-dirs --no-resave-data --md5 rBLAST StartedAt: 2025-10-24 19:40:14 -0400 (Fri, 24 Oct 2025) EndedAt: 2025-10-24 19:40:27 -0400 (Fri, 24 Oct 2025) EllapsedTime: 13.0 seconds RetCode: 0 Status: OK PackageFile: rBLAST_1.5.0.tar.gz PackageFileSize: 25.62 KiB