Package: r3Cseq Version: 1.55.1 Command: /Library/Frameworks/R.framework/Resources/bin/R CMD INSTALL r3Cseq StartedAt: 2025-10-24 15:37:11 -0400 (Fri, 24 Oct 2025) EndedAt: 2025-10-24 15:38:10 -0400 (Fri, 24 Oct 2025) EllapsedTime: 58.7 seconds RetCode: 0 Status: OK