Package: r3Cseq Version: 1.55.1 Command: /Library/Frameworks/R.framework/Resources/bin/R CMD build --keep-empty-dirs --no-resave-data r3Cseq StartedAt: 2025-10-24 18:22:29 -0400 (Fri, 24 Oct 2025) EndedAt: 2025-10-24 18:24:42 -0400 (Fri, 24 Oct 2025) EllapsedTime: 132.6 seconds RetCode: 0 Status: OK PackageFile: r3Cseq_1.55.1.tar.gz PackageFileSize: 4.325 MiB