Package: r3Cseq Version: 1.55.1 Command: rm -rf r3Cseq.buildbin-libdir && mkdir r3Cseq.buildbin-libdir && /Users/biocbuild/BBS/utils/build-universal.sh r3Cseq_1.55.1.tar.gz /Library/Frameworks/R.framework/Resources/bin/R r3Cseq.buildbin-libdir StartedAt: 2025-10-25 01:57:29 -0400 (Sat, 25 Oct 2025) EndedAt: 2025-10-25 01:58:32 -0400 (Sat, 25 Oct 2025) EllapsedTime: 62.3 seconds RetCode: 0 Status: OK PackageFile: r3Cseq_1.55.1.tgz PackageFileSize: 2.941 MiB