Package: qvalue Version: 2.41.0 Command: /home/biocbuild/bbs-3.22-bioc/R/bin/R CMD INSTALL qvalue StartedAt: 2025-10-27 15:09:48 -0400 (Mon, 27 Oct 2025) EndedAt: 2025-10-27 15:10:00 -0400 (Mon, 27 Oct 2025) EllapsedTime: 12.3 seconds RetCode: 0 Status: OK