Package: qvalue Version: 2.41.0 Command: /home/biocbuild/bbs-3.22-bioc/R/bin/R CMD build --keep-empty-dirs --no-resave-data --md5 qvalue StartedAt: 2025-10-27 19:28:37 -0400 (Mon, 27 Oct 2025) EndedAt: 2025-10-27 19:28:50 -0400 (Mon, 27 Oct 2025) EllapsedTime: 13.0 seconds RetCode: 0 Status: OK PackageFile: qvalue_2.41.0.tar.gz PackageFileSize: 2.646 MiB