Package: qvalue Version: 2.42.0 Command: /Library/Frameworks/R.framework/Resources/bin/R CMD build --keep-empty-dirs --no-resave-data qvalue StartedAt: 2025-11-02 17:25:24 -0500 (Sun, 02 Nov 2025) EndedAt: 2025-11-02 17:25:33 -0500 (Sun, 02 Nov 2025) EllapsedTime: 8.1 seconds RetCode: 0 Status: OK PackageFile: qvalue_2.42.0.tar.gz PackageFileSize: 2.646 MiB