Package: qusage Version: 2.44.0 Command: /Library/Frameworks/R.framework/Resources/bin/R CMD build --keep-empty-dirs --no-resave-data qusage StartedAt: 2025-11-03 18:21:41 -0500 (Mon, 03 Nov 2025) EndedAt: 2025-11-03 18:28:15 -0500 (Mon, 03 Nov 2025) EllapsedTime: 394.4 seconds RetCode: 0 Status: OK PackageFile: qusage_2.44.0.tar.gz PackageFileSize: 9.667 MiB