Package: qusage Version: 2.43.0 Command: rm -rf qusage.buildbin-libdir && mkdir qusage.buildbin-libdir && /Users/biocbuild/BBS/utils/build-universal.sh qusage_2.43.0.tar.gz /Library/Frameworks/R.framework/Resources/bin/R qusage.buildbin-libdir StartedAt: 2025-10-26 22:45:03 -0400 (Sun, 26 Oct 2025) EndedAt: 2025-10-26 22:45:07 -0400 (Sun, 26 Oct 2025) EllapsedTime: 4.1 seconds RetCode: 0 Status: OK PackageFile: qusage_2.43.0.tgz PackageFileSize: 9.835 MiB