Package: quantsmooth Version: 1.75.0 Command: /home/biocbuild/bbs-3.22-bioc/R/bin/R CMD INSTALL quantsmooth StartedAt: 2025-10-24 15:15:43 -0400 (Fri, 24 Oct 2025) EndedAt: 2025-10-24 15:15:48 -0400 (Fri, 24 Oct 2025) EllapsedTime: 5.6 seconds RetCode: 0 Status: OK