Package: quantsmooth Version: 1.76.0 Command: /Library/Frameworks/R.framework/Resources/bin/R CMD build --keep-empty-dirs --no-resave-data quantsmooth StartedAt: 2025-11-03 18:21:25 -0500 (Mon, 03 Nov 2025) EndedAt: 2025-11-03 18:21:41 -0500 (Mon, 03 Nov 2025) EllapsedTime: 15.9 seconds RetCode: 0 Status: OK PackageFile: quantsmooth_1.76.0.tar.gz PackageFileSize: 338.6 KiB