Package: quantsmooth Version: 1.76.0 Command: rm -rf quantsmooth.buildbin-libdir && mkdir quantsmooth.buildbin-libdir && /Users/biocbuild/BBS/utils/build-universal.sh quantsmooth_1.76.0.tar.gz /Library/Frameworks/R.framework/Resources/bin/R quantsmooth.buildbin-libdir StartedAt: 2025-11-04 01:57:31 -0500 (Tue, 04 Nov 2025) EndedAt: 2025-11-04 01:57:43 -0500 (Tue, 04 Nov 2025) EllapsedTime: 11.5 seconds RetCode: 0 Status: OK PackageFile: quantsmooth_1.76.0.tgz PackageFileSize: 420.7 KiB