Package: quantsmooth Version: 1.75.0 Command: /Library/Frameworks/R.framework/Resources/bin/R CMD INSTALL quantsmooth StartedAt: 2025-10-24 15:05:41 -0400 (Fri, 24 Oct 2025) EndedAt: 2025-10-24 15:05:44 -0400 (Fri, 24 Oct 2025) EllapsedTime: 2.7 seconds RetCode: 0 Status: OK