Package: quantsmooth Version: 1.75.0 Command: /Library/Frameworks/R.framework/Resources/bin/R CMD build --keep-empty-dirs --no-resave-data quantsmooth StartedAt: 2025-10-24 17:26:25 -0400 (Fri, 24 Oct 2025) EndedAt: 2025-10-24 17:26:31 -0400 (Fri, 24 Oct 2025) EllapsedTime: 6.1 seconds RetCode: 0 Status: OK PackageFile: quantsmooth_1.75.0.tar.gz PackageFileSize: 338.4 KiB