Package: quantsmooth Version: 1.75.0 Command: rm -rf quantsmooth.buildbin-libdir && mkdir quantsmooth.buildbin-libdir && /Users/biocbuild/BBS/utils/build-universal.sh quantsmooth_1.75.0.tar.gz /Library/Frameworks/R.framework/Resources/bin/R quantsmooth.buildbin-libdir StartedAt: 2025-10-24 23:15:14 -0400 (Fri, 24 Oct 2025) EndedAt: 2025-10-24 23:15:18 -0400 (Fri, 24 Oct 2025) EllapsedTime: 4.1 seconds RetCode: 0 Status: OK PackageFile: quantsmooth_1.75.0.tgz PackageFileSize: 421.8 KiB