Package: quantro Version: 1.43.0 Command: /home/biocbuild/bbs-3.22-bioc/R/bin/R CMD INSTALL quantro StartedAt: 2025-10-27 15:48:15 -0400 (Mon, 27 Oct 2025) EndedAt: 2025-10-27 15:49:02 -0400 (Mon, 27 Oct 2025) EllapsedTime: 47.5 seconds RetCode: 0 Status: OK