Package: quantiseqr Version: 1.18.0 Command: /Library/Frameworks/R.framework/Resources/bin/R CMD INSTALL quantiseqr StartedAt: 2025-11-03 15:33:08 -0500 (Mon, 03 Nov 2025) EndedAt: 2025-11-03 15:33:40 -0500 (Mon, 03 Nov 2025) EllapsedTime: 32.3 seconds RetCode: 0 Status: OK