Package: quantiseqr Version: 1.18.0 Command: /Library/Frameworks/R.framework/Resources/bin/R CMD build --keep-empty-dirs --no-resave-data quantiseqr StartedAt: 2025-11-03 18:21:18 -0500 (Mon, 03 Nov 2025) EndedAt: 2025-11-03 18:22:46 -0500 (Mon, 03 Nov 2025) EllapsedTime: 88.0 seconds RetCode: 0 Status: OK PackageFile: quantiseqr_1.18.0.tar.gz PackageFileSize: 3.611 MiB