Package: quantiseqr Version: 1.17.0 Command: /Library/Frameworks/R.framework/Resources/bin/R CMD INSTALL quantiseqr StartedAt: 2025-10-24 15:18:46 -0400 (Fri, 24 Oct 2025) EndedAt: 2025-10-24 15:18:55 -0400 (Fri, 24 Oct 2025) EllapsedTime: 9.4 seconds RetCode: 0 Status: OK