Package: qsvaR Version: 1.13.3 Command: /home/biocbuild/bbs-3.22-bioc/R/bin/R CMD INSTALL qsvaR StartedAt: 2025-10-24 15:39:33 -0400 (Fri, 24 Oct 2025) EndedAt: 2025-10-24 15:40:05 -0400 (Fri, 24 Oct 2025) EllapsedTime: 31.7 seconds RetCode: 0 Status: OK